Name | Last modified | Size | Description | |
---|---|---|---|---|
Parent Directory | - | |||
install-out.txt | 15-Jun-2024 03:37 | 2.3K | ||
install-summary.dcf | 15-Jun-2024 03:37 | 263 | ||
buildsrc-out.txt | 15-Jun-2024 03:37 | 844 | ||
buildsrc-summary.dcf | 15-Jun-2024 03:37 | 423 | ||
checksrc-summary.dcf | 15-Jun-2024 03:37 | 422 | ||
checksrc-out.txt | 15-Jun-2024 03:37 | 4.2K | ||