Back to Multiple platform build/check report for BioC 3.14
ABCDEFGHIJKLMNOPQRS[T]UVWXYZ

This page was generated on 2021-12-03 13:05:35 -0500 (Fri, 03 Dec 2021).

BUILD BIN results for TCGAutils on tokay2

To the developers/maintainers of the TCGAutils package:
- Please allow up to 24 hours (and sometimes 48 hours) for your latest push to git@git.bioconductor.org:packages/TCGAutils.git to
reflect on this report. See How and When does the builder pull? When will my changes propagate? here for more information.
- Make sure to use the following settings in order to reproduce any error or warning you see on this page.

raw results

Package 1939/2083HostnameOS / ArchINSTALLBUILDCHECKBUILD BIN
TCGAutils 1.14.0  (landing page)
Marcel Ramos
Snapshot Date: 2021-12-02 01:55:06 -0500 (Thu, 02 Dec 2021)
git_url: https://git.bioconductor.org/packages/TCGAutils
git_branch: RELEASE_3_14
git_last_commit: 7b49410
git_last_commit_date: 2021-10-26 12:44:28 -0500 (Tue, 26 Oct 2021)
nebbiolo2Linux (Ubuntu 20.04.3 LTS) / x86_64  OK    OK    OK  UNNEEDED, same version is already published
tokay2Windows Server 2012 R2 Standard / x64  OK    OK    OK    OK  UNNEEDED, same version is already published
machv2macOS 10.14.6 Mojave / x86_64  OK    OK    OK    OK  UNNEEDED, same version is already published

Summary

Package: TCGAutils
Version: 1.14.0
Command: rm -rf TCGAutils.buildbin-libdir && mkdir TCGAutils.buildbin-libdir && C:\Users\biocbuild\bbs-3.14-bioc\R\bin\R.exe CMD INSTALL --merge-multiarch --build --library=TCGAutils.buildbin-libdir TCGAutils_1.14.0.tar.gz
StartedAt: 2021-12-03 10:36:24 -0500 (Fri, 03 Dec 2021)
EndedAt: 2021-12-03 10:38:06 -0500 (Fri, 03 Dec 2021)
EllapsedTime: 102.5 seconds
RetCode: 0
Status:   OK  
PackageFile: TCGAutils_1.14.0.zip
PackageFileSize: 489.7 KiB

Command output

##############################################################################
##############################################################################
###
### Running command:
###
###   rm -rf TCGAutils.buildbin-libdir && mkdir TCGAutils.buildbin-libdir && C:\Users\biocbuild\bbs-3.14-bioc\R\bin\R.exe CMD INSTALL --merge-multiarch --build --library=TCGAutils.buildbin-libdir TCGAutils_1.14.0.tar.gz
###
##############################################################################
##############################################################################



install for i386

* installing *source* package 'TCGAutils' ...
** using staged installation
** R
** data
** inst
** byte-compile and prepare package for lazy loading
** help
*** installing help indices
  converting help for package 'TCGAutils'
    finding HTML links ... done
    ID-translation                          html  
    TCGAbarcode                             html  
    TCGAbiospec                             html  
    TCGAprimaryTumors                       html  
    finding level-2 HTML links ... done

    TCGAsampleSelect                        html  
    TCGAutils-package                       html  
    builds                                  html  
    clinicalNames                           html  
    curatedTCGAData-helpers                 html  
    diseaseCodes                            html  
    findGRangesCols                         html  
    generateMap                             html  
    getFileName                             html  
    hidden-helpers                          html  
    imputeAssay                             html  
    makeGRangesListFromCopyNumber           html  
    makeGRangesListFromExonFiles            html  
    makeSummarizedExperimentFromGISTIC      html  
    mergeColData                            html  
    oncoPrintTCGA                           html  
    sampleTypes                             html  
    simplifyTCGA                            html  
    trimColData                             html  
** building package indices
** installing vignettes
** testing if installed package can be loaded from temporary location
** testing if installed package can be loaded from final location
** testing if installed package keeps a record of temporary installation path

install for x64

* installing *source* package 'TCGAutils' ...
** testing if installed package can be loaded
* MD5 sums
packaged installation of 'TCGAutils' as TCGAutils_1.14.0.zip
* DONE (TCGAutils)