Index of /checkResults/release/bioc-LATEST/TCGAutils/raw-results

[ICO]NameLast modifiedSizeDescription

[DIR]Parent Directory  -  
[   ]info.dcf13-Aug-2022 02:23 283  
[DIR]merida1/13-Aug-2022 02:23 -  
[DIR]nebbiolo1/13-Aug-2022 02:20 -  
[DIR]palomino3/13-Aug-2022 02:22 -  
[DIR]riesling1/19-Mar-2022 00:08 -