Back to Multiple platform build/check report for BioC 3.14
ABCDEFGHIJKLMNOPQRS[T]UVWXYZ

This page was generated on 2021-11-24 15:06:24 -0500 (Wed, 24 Nov 2021).

BUILD results for TCGAutils on machv2

To the developers/maintainers of the TCGAutils package:
- Please allow up to 24 hours (and sometimes 48 hours) for your latest push to git@git.bioconductor.org:packages/TCGAutils.git to
reflect on this report. See How and When does the builder pull? When will my changes propagate? here for more information.
- Make sure to use the following settings in order to reproduce any error or warning you see on this page.

raw results

Package 1939/2083HostnameOS / ArchINSTALLBUILDCHECKBUILD BIN
TCGAutils 1.14.0  (landing page)
Marcel Ramos
Snapshot Date: 2021-11-23 04:15:06 -0500 (Tue, 23 Nov 2021)
git_url: https://git.bioconductor.org/packages/TCGAutils
git_branch: RELEASE_3_14
git_last_commit: 7b49410
git_last_commit_date: 2021-10-26 12:44:28 -0500 (Tue, 26 Oct 2021)
nebbiolo2Linux (Ubuntu 20.04.3 LTS) / x86_64  OK    OK    OK  UNNEEDED, same version is already published
tokay2Windows Server 2012 R2 Standard / x64  OK    OK    OK    OK  UNNEEDED, same version is already published
machv2macOS 10.14.6 Mojave / x86_64  OK    OK    OK    OK  UNNEEDED, same version is already published

Summary

Package: TCGAutils
Version: 1.14.0
Command: /Library/Frameworks/R.framework/Resources/bin/R CMD build --keep-empty-dirs --no-resave-data TCGAutils
StartedAt: 2021-11-23 12:42:52 -0500 (Tue, 23 Nov 2021)
EndedAt: 2021-11-23 12:47:13 -0500 (Tue, 23 Nov 2021)
EllapsedTime: 260.6 seconds
RetCode: 0
Status:   OK  
PackageFile: TCGAutils_1.14.0.tar.gz
PackageFileSize: 376.5 KiB

Command output

##############################################################################
##############################################################################
###
### Running command:
###
###   /Library/Frameworks/R.framework/Resources/bin/R CMD build --keep-empty-dirs --no-resave-data TCGAutils
###
##############################################################################
##############################################################################


* checking for file ‘TCGAutils/DESCRIPTION’ ... OK
* preparing ‘TCGAutils’:
* checking DESCRIPTION meta-information ... OK
* installing the package to build vignettes
* creating vignettes ... OK
* checking for LF line-endings in source and make files and shell scripts
* checking for empty or unneeded directories
* looking to see if a ‘data/datalist’ file should be added
* building ‘TCGAutils_1.14.0.tar.gz’