Back to Multiple platform build/check report for BioC 3.13
ABCDEFGHIJKLMNOPQRS[T]UVWXYZ

This page was generated on 2021-10-13 15:06:10 -0400 (Wed, 13 Oct 2021).

BUILD results for TCGAbiolinksGUI on machv2

To the developers/maintainers of the TCGAbiolinksGUI package:
- Please allow up to 24 hours (and sometimes 48 hours) for your latest push to git@git.bioconductor.org:packages/TCGAbiolinksGUI.git to
reflect on this report. See How and When does the builder pull? When will my changes propagate? here for more information.
- Make sure to use the following settings in order to reproduce any error or warning you see on this page.

raw results

Package 1900/2041HostnameOS / ArchINSTALLBUILDCHECKBUILD BIN
TCGAbiolinksGUI 1.18.0  (landing page)
Tiago C. Silva
Snapshot Date: 2021-10-12 04:50:13 -0400 (Tue, 12 Oct 2021)
git_url: https://git.bioconductor.org/packages/TCGAbiolinksGUI
git_branch: RELEASE_3_13
git_last_commit: 8315ea1
git_last_commit_date: 2021-05-19 12:25:56 -0400 (Wed, 19 May 2021)
nebbiolo1Linux (Ubuntu 20.04.2 LTS) / x86_64  OK    OK    OK  UNNEEDED, same version is already published
tokay2Windows Server 2012 R2 Standard / x64  OK    OK    OK    OK  UNNEEDED, same version is already published
machv2macOS 10.14.6 Mojave / x86_64  OK    OK    OK    OK  UNNEEDED, same version is already published

Summary

Package: TCGAbiolinksGUI
Version: 1.18.0
Command: /Library/Frameworks/R.framework/Versions/Current/Resources/bin/R CMD build --keep-empty-dirs --no-resave-data TCGAbiolinksGUI
StartedAt: 2021-10-12 15:16:22 -0400 (Tue, 12 Oct 2021)
EndedAt: 2021-10-12 15:18:43 -0400 (Tue, 12 Oct 2021)
EllapsedTime: 140.4 seconds
RetCode: 0
Status:   OK  
PackageFile: TCGAbiolinksGUI_1.18.0.tar.gz
PackageFileSize: 22.64 MiB

Command output

##############################################################################
##############################################################################
###
### Running command:
###
###   /Library/Frameworks/R.framework/Versions/Current/Resources/bin/R CMD build --keep-empty-dirs --no-resave-data TCGAbiolinksGUI
###
##############################################################################
##############################################################################


* checking for file ‘TCGAbiolinksGUI/DESCRIPTION’ ... OK
* preparing ‘TCGAbiolinksGUI’:
* checking DESCRIPTION meta-information ... OK
* installing the package to build vignettes
* creating vignettes ... OK
* checking for LF line-endings in source and make files and shell scripts
* checking for empty or unneeded directories
* building ‘TCGAbiolinksGUI_1.18.0.tar.gz’