Index of /checkResults/release/bioc-LATEST/TBSignatureProfiler/raw-results/riesling1

[ICO]NameLast modifiedSizeDescription

[DIR]Parent Directory  -  
[TXT]buildbin-out.txt19-Mar-2022 00:08 3.3K 
[   ]buildbin-summary.dcf19-Mar-2022 00:08 584  
[TXT]buildsrc-out.txt19-Mar-2022 00:08 898  
[   ]buildsrc-summary.dcf19-Mar-2022 00:08 498  
[TXT]checksrc-out.txt19-Mar-2022 00:08 3.5K 
[   ]checksrc-summary.dcf19-Mar-2022 00:08 493  
[TXT]install-out.txt19-Mar-2022 00:08 3.3K 
[   ]install-summary.dcf19-Mar-2022 00:08 291