Name | Last modified | Size | Description | |
---|---|---|---|---|
Parent Directory | - | |||
buildsrc-summary.dcf | 10-May-2024 00:41 | 464 | ||
buildsrc-out.txt | 10-May-2024 00:41 | 865 | ||
install-summary.dcf | 10-May-2024 00:41 | 293 | ||
install-out.txt | 10-May-2024 00:41 | 1.0K | ||
checksrc-out.txt | 09-May-2024 00:41 | 19K | ||
checksrc-summary.dcf | 09-May-2024 00:41 | 499 | ||