Name | Last modified | Size | Description | |
---|---|---|---|---|
Parent Directory | - | |||
buildbin-out.txt | 12-Jun-2024 03:44 | 1.3K | ||
buildbin-summary.dcf | 12-Jun-2024 03:44 | 602 | ||
buildsrc-out.txt | 12-Jun-2024 03:44 | 864 | ||
buildsrc-summary.dcf | 12-Jun-2024 03:44 | 464 | ||
checksrc-out.txt | 12-Jun-2024 03:44 | 19K | ||
checksrc-summary.dcf | 12-Jun-2024 03:44 | 492 | ||
install-out.txt | 12-Jun-2024 03:44 | 1.0K | ||
install-summary.dcf | 12-Jun-2024 03:44 | 292 | ||