Back to Multiple platform build/check report for BioC 3.16:   simplified   long
ABCDEFGHIJKLMNOPQRS[T]UVWXYZ

This page was generated on 2023-02-07 11:06:33 -0500 (Tue, 07 Feb 2023).

HostnameOSArch (*)R versionInstalled pkgs
nebbiolo2Linux (Ubuntu 20.04.5 LTS)x86_644.2.2 (2022-10-31) -- "Innocent and Trusting" 4511
palomino4Windows Server 2022 Datacenterx644.2.2 (2022-10-31 ucrt) -- "Innocent and Trusting" 4289
lconwaymacOS 12.5.1 Montereyx86_644.2.2 (2022-10-31) -- "Innocent and Trusting" 4318
Click on any hostname to see more info about the system (e.g. compilers)      (*) as reported by 'uname -p', except on Windows and Mac OS X

BUILD results for TBSignatureProfiler on palomino4


To the developers/maintainers of the TBSignatureProfiler package:
- Please allow up to 24 hours (and sometimes 48 hours) for your latest push to git@git.bioconductor.org:packages/TBSignatureProfiler.git to
reflect on this report. See How and When does the builder pull? When will my changes propagate? for more information.
- Make sure to use the following settings in order to reproduce any error or warning you see on this page.

raw results

Package 2025/2183HostnameOS / ArchINSTALLBUILDCHECKBUILD BIN
TBSignatureProfiler 1.10.0  (landing page)
Aubrey R. Odom-Mabey
Snapshot Date: 2023-02-06 14:00:04 -0500 (Mon, 06 Feb 2023)
git_url: https://git.bioconductor.org/packages/TBSignatureProfiler
git_branch: RELEASE_3_16
git_last_commit: d5d3e43
git_last_commit_date: 2022-11-01 11:21:57 -0500 (Tue, 01 Nov 2022)
nebbiolo2Linux (Ubuntu 20.04.5 LTS) / x86_64  OK    OK    OK  UNNEEDED, same version is already published
palomino4Windows Server 2022 Datacenter / x64  OK    OK    OK    OK  UNNEEDED, same version is already published
lconwaymacOS 12.5.1 Monterey / x86_64  OK    OK    OK    OK  UNNEEDED, same version is already published

Summary

Package: TBSignatureProfiler
Version: 1.10.0
Command: chmod a+r TBSignatureProfiler -R && F:\biocbuild\bbs-3.16-bioc\R\bin\R.exe CMD build --keep-empty-dirs --no-resave-data TBSignatureProfiler
StartedAt: 2023-02-06 21:59:29 -0500 (Mon, 06 Feb 2023)
EndedAt: 2023-02-06 22:00:37 -0500 (Mon, 06 Feb 2023)
EllapsedTime: 68.6 seconds
RetCode: 0
Status:   OK  
PackageFile: TBSignatureProfiler_1.10.0.tar.gz
PackageFileSize: 3.429 MiB

Command output

##############################################################################
##############################################################################
###
### Running command:
###
###   chmod a+r TBSignatureProfiler -R && F:\biocbuild\bbs-3.16-bioc\R\bin\R.exe CMD build --keep-empty-dirs --no-resave-data TBSignatureProfiler
###
##############################################################################
##############################################################################


* checking for file 'TBSignatureProfiler/DESCRIPTION' ... OK
* preparing 'TBSignatureProfiler':
* checking DESCRIPTION meta-information ... OK
* installing the package to build vignettes
* creating vignettes ... OK
* checking for LF line-endings in source and make files and shell scripts
* checking for empty or unneeded directories
* building 'TBSignatureProfiler_1.10.0.tar.gz'