Index of /checkResults/release/bioc-LATEST/TAPseq/raw-results/palomino3

[ICO]NameLast modifiedSizeDescription

[DIR]Parent Directory  -  
[TXT]buildbin-out.txt22-Jun-2024 06:40 1.4K 
[   ]buildbin-summary.dcf22-Jun-2024 06:40 510  
[TXT]buildsrc-out.txt22-Jun-2024 06:40 894  
[   ]buildsrc-summary.dcf22-Jun-2024 06:40 449  
[TXT]checksrc-out.txt22-Jun-2024 06:40 4.8K 
[   ]checksrc-summary.dcf22-Jun-2024 06:40 450  
[TXT]install-out.txt22-Jun-2024 06:40 1.3K 
[   ]install-summary.dcf22-Jun-2024 06:40 266