Index of /checkResults/release/bioc-LATEST/TAPseq/raw-results/nebbiolo1

[ICO]NameLast modifiedSizeDescription

[DIR]Parent Directory  -  
[TXT]buildsrc-out.txt15-Jun-2024 03:37 865  
[   ]buildsrc-summary.dcf15-Jun-2024 03:37 415  
[TXT]checksrc-out.txt15-Jun-2024 03:37 4.7K 
[   ]checksrc-summary.dcf15-Jun-2024 03:37 416  
[TXT]install-out.txt15-Jun-2024 03:37 1.3K 
[   ]install-summary.dcf15-Jun-2024 03:37 257