Index of /checkResults/release/bioc-LATEST/TAPseq/raw-results/lconway

[ICO]NameLast modifiedSizeDescription

[DIR]Parent Directory  -  
[TXT]buildbin-out.txt18-May-2024 00:38 1.5K 
[   ]buildbin-summary.dcf18-May-2024 00:38 524  
[TXT]buildsrc-out.txt18-May-2024 00:38 875  
[   ]buildsrc-summary.dcf18-May-2024 00:38 425  
[TXT]checksrc-out.txt18-May-2024 00:38 4.8K 
[   ]checksrc-summary.dcf18-May-2024 00:38 446  
[TXT]install-out.txt18-May-2024 00:38 1.3K 
[   ]install-summary.dcf18-May-2024 00:38 267