Index of /checkResults/release/bioc-LATEST/TADCompare/raw-results

[ICO]NameLast modifiedSizeDescription

[DIR]Parent Directory  -  
[DIR]palomino3/18-May-2024 00:37 -  
[DIR]nebbiolo1/18-May-2024 00:36 -  
[DIR]merida1/05-Mar-2024 01:40 -  
[DIR]lconway/18-May-2024 00:38 -  
[DIR]kunpeng2/10-May-2024 00:41 -  
[   ]info.dcf18-May-2024 00:35 287