Back to Multiple platform build/check report for BioC 3.16
ABCDEFGHIJKLMNOPQRS[T]UVWXYZ

This page was generated on 2023-02-02 11:06:15 -0500 (Thu, 02 Feb 2023).

HostnameOSArch (*)R versionInstalled pkgs
nebbiolo2Linux (Ubuntu 20.04.5 LTS)x86_644.2.2 (2022-10-31) -- "Innocent and Trusting" 4511
palomino4Windows Server 2022 Datacenterx644.2.2 (2022-10-31 ucrt) -- "Innocent and Trusting" 4289
lconwaymacOS 12.5.1 Montereyx86_644.2.2 (2022-10-31) -- "Innocent and Trusting" 4318
Click on any hostname to see more info about the system (e.g. compilers)      (*) as reported by 'uname -p', except on Windows and Mac OS X

INSTALL results for TADCompare on nebbiolo2


To the developers/maintainers of the TADCompare package:
- Please allow up to 24 hours (and sometimes 48 hours) for your latest push to git@git.bioconductor.org:packages/TADCompare.git to
reflect on this report. See How and When does the builder pull? When will my changes propagate? for more information.
- Make sure to use the following settings in order to reproduce any error or warning you see on this page.

raw results

Package 2017/2183HostnameOS / ArchINSTALLBUILDCHECKBUILD BIN
TADCompare 1.8.0  (landing page)
Kellen Cresswell
Snapshot Date: 2023-02-01 14:00:04 -0500 (Wed, 01 Feb 2023)
git_url: https://git.bioconductor.org/packages/TADCompare
git_branch: RELEASE_3_16
git_last_commit: ca77240
git_last_commit_date: 2022-11-01 11:22:10 -0500 (Tue, 01 Nov 2022)
nebbiolo2Linux (Ubuntu 20.04.5 LTS) / x86_64  OK    ERROR  skipped
palomino4Windows Server 2022 Datacenter / x64  OK    ERROR  skippedskipped
lconwaymacOS 12.5.1 Monterey / x86_64  OK    ERROR  skippedskipped

Summary

Package: TADCompare
Version: 1.8.0
Command: /home/biocbuild/bbs-3.16-bioc/R/bin/R CMD INSTALL TADCompare
StartedAt: 2023-02-01 15:46:12 -0500 (Wed, 01 Feb 2023)
EndedAt: 2023-02-01 15:46:43 -0500 (Wed, 01 Feb 2023)
EllapsedTime: 31.4 seconds
RetCode: 0
Status:   OK  

Command output

##############################################################################
##############################################################################
###
### Running command:
###
###   /home/biocbuild/bbs-3.16-bioc/R/bin/R CMD INSTALL TADCompare
###
##############################################################################
##############################################################################


* installing to library ‘/home/biocbuild/bbs-3.16-bioc/R/library’
* installing *source* package ‘TADCompare’ ...
** using staged installation
** R
** data
*** moving datasets to lazyload DB
** inst
** byte-compile and prepare package for lazy loading
** help
*** installing help indices
** building package indices
** installing vignettes
** testing if installed package can be loaded from temporary location
** testing if installed package can be loaded from final location
** testing if installed package keeps a record of temporary installation path
* DONE (TADCompare)