Name | Last modified | Size | Description | |
---|---|---|---|---|
Parent Directory | - | |||
buildbin-summary.dcf | 29-Jun-2024 06:42 | 527 | ||
buildbin-out.txt | 29-Jun-2024 06:42 | 4.5K | ||
checksrc-out.txt | 29-Jun-2024 06:42 | 5.8K | ||
checksrc-summary.dcf | 29-Jun-2024 06:42 | 461 | ||
buildsrc-summary.dcf | 29-Jun-2024 06:42 | 460 | ||
buildsrc-out.txt | 29-Jun-2024 06:42 | 941 | ||
install-summary.dcf | 29-Jun-2024 06:42 | 272 | ||
install-out.txt | 29-Jun-2024 06:42 | 4.3K | ||