Index of /checkResults/release/bioc-LATEST/SummarizedBenchmark/raw-results/merida1
Name
Last modified
Size
Description
Parent Directory
-
buildsrc-out.txt
28-Mar-2024 00:38
2.3K
buildsrc-summary.dcf
28-Mar-2024 00:38
368
install-out.txt
28-Mar-2024 00:38
1.1K
install-summary.dcf
28-Mar-2024 00:38
293