Index of /checkResults/release/bioc-LATEST/SummarizedBenchmark/raw-results

[ICO]NameLast modifiedSizeDescription

[DIR]Parent Directory  -  
[   ]info.dcf28-Jun-2022 00:10 299  
[DIR]merida1/25-Jun-2022 01:08 -  
[DIR]nebbiolo1/28-Jun-2022 00:10 -  
[DIR]palomino3/25-Jun-2022 01:06 -  
[DIR]riesling1/19-Mar-2022 00:08 -