Back to Build/check report for BioC 3.15
ABCDEFGHIJKLMNOPQR[S]TUVWXYZ

This page was generated on 2022-06-27 11:10:10 -0400 (Mon, 27 Jun 2022).

HostnameOSArch (*)R versionInstalled pkgs
nebbiolo1Linux (Ubuntu 20.04.4 LTS)x86_644.2.0 (2022-04-22) -- "Vigorous Calisthenics" 4380
Click on any hostname to see more info about the system (e.g. compilers)      (*) as reported by 'uname -p', except on Windows and Mac OS X

BUILD results for SummarizedBenchmark on nebbiolo1


To the developers/maintainers of the SummarizedBenchmark package:
- Please allow up to 24 hours (and sometimes 48 hours) for your latest push to git@git.bioconductor.org:packages/SummarizedBenchmark.git to
reflect on this report. See How and When does the builder pull? When will my changes propagate? for more information.
- Make sure to use the following settings in order to reproduce any error or warning you see on this page.

raw results

Package 1951/2140HostnameOS / ArchINSTALLBUILDCHECKBUILD BIN
SummarizedBenchmark 2.14.0  (landing page)
Patrick Kimes
Snapshot Date: 2022-06-26 13:55:11 -0400 (Sun, 26 Jun 2022)
git_url: https://git.bioconductor.org/packages/SummarizedBenchmark
git_branch: RELEASE_3_15
git_last_commit: aac0d7a
git_last_commit_date: 2022-04-26 11:47:56 -0400 (Tue, 26 Apr 2022)
nebbiolo1Linux (Ubuntu 20.04.4 LTS) / x86_64  OK    OK    WARNINGS  UNNEEDED, same version is already published

Summary

Package: SummarizedBenchmark
Version: 2.14.0
Command: /home/biocbuild/bbs-3.15-bioc/R/bin/R CMD build --keep-empty-dirs --no-resave-data SummarizedBenchmark
StartedAt: 2022-06-26 18:00:49 -0400 (Sun, 26 Jun 2022)
EndedAt: 2022-06-26 18:04:52 -0400 (Sun, 26 Jun 2022)
EllapsedTime: 242.6 seconds
RetCode: 0
Status:   OK  
PackageFile: SummarizedBenchmark_2.14.0.tar.gz
PackageFileSize: 6.471 MiB

Command output

##############################################################################
##############################################################################
###
### Running command:
###
###   /home/biocbuild/bbs-3.15-bioc/R/bin/R CMD build --keep-empty-dirs --no-resave-data SummarizedBenchmark
###
##############################################################################
##############################################################################


* checking for file ‘SummarizedBenchmark/DESCRIPTION’ ... OK
* preparing ‘SummarizedBenchmark’:
* checking DESCRIPTION meta-information ... OK
* installing the package to build vignettes
* creating vignettes ... OK
* checking for LF line-endings in source and make files and shell scripts
* checking for empty or unneeded directories
* building ‘SummarizedBenchmark_2.14.0.tar.gz’