Name | Last modified | Size | Description | |
---|---|---|---|---|
Parent Directory | - | |||
buildbin-out.txt | 30-Mar-2024 00:37 | 1.9K | ||
buildbin-summary.dcf | 30-Mar-2024 00:37 | 521 | ||
buildsrc-out.txt | 30-Mar-2024 00:37 | 876 | ||
buildsrc-summary.dcf | 30-Mar-2024 00:37 | 454 | ||
checksrc-out.txt | 30-Mar-2024 00:37 | 4.1K | ||
checksrc-summary.dcf | 30-Mar-2024 00:37 | 450 | ||
install-out.txt | 30-Mar-2024 00:37 | 1.7K | ||
install-summary.dcf | 30-Mar-2024 00:37 | 270 | ||