Name | Last modified | Size | Description | |
---|---|---|---|---|
Parent Directory | - | |||
buildsrc-out.txt | 10-May-2024 00:41 | 887 | ||
buildsrc-summary.dcf | 10-May-2024 00:41 | 433 | ||
install-summary.dcf | 10-May-2024 00:41 | 273 | ||
install-out.txt | 10-May-2024 00:41 | 1.0K | ||
checksrc-summary.dcf | 09-May-2024 00:41 | 457 | ||
checksrc-out.txt | 09-May-2024 00:41 | 3.7K | ||