Index of /checkResults/release/bioc-LATEST/SpotClean/raw-results/kjohnson1

[ICO]NameLast modifiedSizeDescription

[DIR]Parent Directory  -  
[TXT]buildbin-out.txt17-Jul-2024 06:43 1.2K 
[   ]buildbin-summary.dcf17-Jul-2024 06:43 539  
[TXT]buildsrc-out.txt17-Jul-2024 06:43 886  
[   ]buildsrc-summary.dcf17-Jul-2024 06:43 432  
[TXT]checksrc-out.txt17-Jul-2024 06:43 3.6K 
[   ]checksrc-summary.dcf17-Jul-2024 06:43 450  
[TXT]install-out.txt17-Jul-2024 06:43 1.0K 
[   ]install-summary.dcf17-Jul-2024 06:43 272