Name | Last modified | Size | Description | |
---|---|---|---|---|
Parent Directory | - | |||
buildbin-summary.dcf | 05-Mar-2024 01:40 | 573 | ||
buildbin-out.txt | 05-Mar-2024 01:40 | 1.6K | ||
checksrc-summary.dcf | 05-Mar-2024 01:40 | 479 | ||
checksrc-out.txt | 05-Mar-2024 01:40 | 5.8K | ||
buildsrc-summary.dcf | 05-Mar-2024 01:40 | 448 | ||
buildsrc-out.txt | 05-Mar-2024 01:40 | 844 | ||
install-summary.dcf | 05-Mar-2024 01:40 | 284 | ||
install-out.txt | 05-Mar-2024 01:40 | 1.4K | ||