Back to Multiple platform build/check report for BioC 3.16:   simplified   long
ABCDEFGHIJKLMNOPQR[S]TUVWXYZ

This page was generated on 2023-03-22 11:05:51 -0400 (Wed, 22 Mar 2023).

HostnameOSArch (*)R versionInstalled pkgs
nebbiolo2Linux (Ubuntu 20.04.5 LTS)x86_644.2.3 (2023-03-15) -- "Shortstop Beagle" 4271
palomino4Windows Server 2022 Datacenterx644.2.3 (2023-03-15 ucrt) -- "Shortstop Beagle" 4214
lconwaymacOS 12.5.1 Montereyx86_644.2.3 (2023-03-15) -- "Shortstop Beagle" 4259
Click on any hostname to see more info about the system (e.g. compilers)      (*) as reported by 'uname -p', except on Windows and Mac OS X

BUILD BIN results for SplicingGraphs on palomino4


To the developers/maintainers of the SplicingGraphs package:
- Please allow up to 24 hours (and sometimes 48 hours) for your latest push to git@git.bioconductor.org:packages/SplicingGraphs.git to
reflect on this report. See How and When does the builder pull? When will my changes propagate? for more information.
- Make sure to use the following settings in order to reproduce any error or warning you see on this page.

raw results

Package 1947/2183HostnameOS / ArchINSTALLBUILDCHECKBUILD BIN
SplicingGraphs 1.38.0  (landing page)
H. Pag├Ęs
Snapshot Date: 2023-03-20 14:00:04 -0400 (Mon, 20 Mar 2023)
git_url: https://git.bioconductor.org/packages/SplicingGraphs
git_branch: RELEASE_3_16
git_last_commit: 37dc46c
git_last_commit_date: 2022-11-01 11:08:13 -0400 (Tue, 01 Nov 2022)
nebbiolo2Linux (Ubuntu 20.04.5 LTS) / x86_64  OK    OK    WARNINGS  UNNEEDED, same version is already published
palomino4Windows Server 2022 Datacenter / x64  OK    OK    ERROR    OK  
lconwaymacOS 12.5.1 Monterey / x86_64  OK    OK    ERROR    OK  

Summary

Package: SplicingGraphs
Version: 1.38.0
Command: rm -rf SplicingGraphs.buildbin-libdir && mkdir SplicingGraphs.buildbin-libdir && F:\biocbuild\bbs-3.16-bioc\R\bin\R.exe CMD INSTALL --build --library=SplicingGraphs.buildbin-libdir SplicingGraphs_1.38.0.tar.gz
StartedAt: 2023-03-21 09:22:06 -0400 (Tue, 21 Mar 2023)
EndedAt: 2023-03-21 09:23:10 -0400 (Tue, 21 Mar 2023)
EllapsedTime: 63.9 seconds
RetCode: 0
Status:   OK  
PackageFile: SplicingGraphs_1.38.0.zip
PackageFileSize: 4.588 MiB

Command output

##############################################################################
##############################################################################
###
### Running command:
###
###   rm -rf SplicingGraphs.buildbin-libdir && mkdir SplicingGraphs.buildbin-libdir && F:\biocbuild\bbs-3.16-bioc\R\bin\R.exe CMD INSTALL --build --library=SplicingGraphs.buildbin-libdir SplicingGraphs_1.38.0.tar.gz
###
##############################################################################
##############################################################################


* installing *source* package 'SplicingGraphs' ...
** using staged installation
** R
** inst
** byte-compile and prepare package for lazy loading
Warning: replacing previous import 'IRanges::from' by 'Rgraphviz::from' when loading 'SplicingGraphs'
Warning: replacing previous import 'IRanges::to' by 'Rgraphviz::to' when loading 'SplicingGraphs'
** help
*** installing help indices
** building package indices
** installing vignettes
** testing if installed package can be loaded from temporary location
Warning: replacing previous import 'IRanges::from' by 'Rgraphviz::from' when loading 'SplicingGraphs'
Warning: replacing previous import 'IRanges::to' by 'Rgraphviz::to' when loading 'SplicingGraphs'
** testing if installed package can be loaded from final location
Warning: replacing previous import 'IRanges::from' by 'Rgraphviz::from' when loading 'SplicingGraphs'
Warning: replacing previous import 'IRanges::to' by 'Rgraphviz::to' when loading 'SplicingGraphs'
** testing if installed package keeps a record of temporary installation path
* MD5 sums
packaged installation of 'SplicingGraphs' as SplicingGraphs_1.38.0.zip
* DONE (SplicingGraphs)