Name | Last modified | Size | Description | |
---|---|---|---|---|
Parent Directory | - | |||
buildbin-out.txt | 18-Apr-2024 00:37 | 7.8K | ||
buildbin-summary.dcf | 18-Apr-2024 00:37 | 525 | ||
buildsrc-out.txt | 18-Apr-2024 00:37 | 1.3K | ||
buildsrc-summary.dcf | 18-Apr-2024 00:37 | 459 | ||
checksrc-out.txt | 18-Apr-2024 00:37 | 4.8K | ||
checksrc-summary.dcf | 18-Apr-2024 00:37 | 453 | ||
install-out.txt | 18-Apr-2024 00:37 | 7.6K | ||
install-summary.dcf | 18-Apr-2024 00:37 | 272 | ||