Back to Multiple platform build/check report for BioC 3.13
ABCDEFGHIJKLMNOPQR[S]TUVWXYZ

This page was generated on 2021-10-13 15:05:40 -0400 (Wed, 13 Oct 2021).

BUILD BIN results for SpidermiR on tokay2

To the developers/maintainers of the SpidermiR package:
- Please allow up to 24 hours (and sometimes 48 hours) for your latest push to git@git.bioconductor.org:packages/SpidermiR.git to
reflect on this report. See How and When does the builder pull? When will my changes propagate? here for more information.
- Make sure to use the following settings in order to reproduce any error or warning you see on this page.

raw results

Package 1825/2041HostnameOS / ArchINSTALLBUILDCHECKBUILD BIN
SpidermiR 1.22.1  (landing page)
Claudia Cava
Snapshot Date: 2021-10-12 04:50:13 -0400 (Tue, 12 Oct 2021)
git_url: https://git.bioconductor.org/packages/SpidermiR
git_branch: RELEASE_3_13
git_last_commit: 45680ec
git_last_commit_date: 2021-06-16 06:21:54 -0400 (Wed, 16 Jun 2021)
nebbiolo1Linux (Ubuntu 20.04.2 LTS) / x86_64  OK    OK    ERROR  
tokay2Windows Server 2012 R2 Standard / x64  OK    OK    ERROR    OK  
machv2macOS 10.14.6 Mojave / x86_64  OK    OK    ERROR    OK  

Summary

Package: SpidermiR
Version: 1.22.1
Command: rm -rf SpidermiR.buildbin-libdir && mkdir SpidermiR.buildbin-libdir && C:\Users\biocbuild\bbs-3.13-bioc\R\bin\R.exe CMD INSTALL --merge-multiarch --build --library=SpidermiR.buildbin-libdir SpidermiR_1.22.1.tar.gz
StartedAt: 2021-10-13 11:33:48 -0400 (Wed, 13 Oct 2021)
EndedAt: 2021-10-13 11:35:20 -0400 (Wed, 13 Oct 2021)
EllapsedTime: 91.1 seconds
RetCode: 0
Status:   OK  
PackageFile: SpidermiR_1.22.1.zip
PackageFileSize: 275.5 KiB

Command output

##############################################################################
##############################################################################
###
### Running command:
###
###   rm -rf SpidermiR.buildbin-libdir && mkdir SpidermiR.buildbin-libdir && C:\Users\biocbuild\bbs-3.13-bioc\R\bin\R.exe CMD INSTALL --merge-multiarch --build --library=SpidermiR.buildbin-libdir SpidermiR_1.22.1.tar.gz
###
##############################################################################
##############################################################################



install for i386

* installing *source* package 'SpidermiR' ...
** using staged installation
** R
** inst
** byte-compile and prepare package for lazy loading
** help
*** installing help indices
  converting help for package 'SpidermiR'
    finding HTML links ... done
    SpidermiRanalyze_degree_centrality      html  
    SpidermiRanalyze_direct_net             html  
    SpidermiRanalyze_direct_subnetwork      html  
    SpidermiRanalyze_subnetwork_neigh       html  
    SpidermiRdownload_drug_gene             html  
    SpidermiRdownload_miRNAextra_cir        html  
    SpidermiRdownload_miRNAprediction       html  
    SpidermiRdownload_miRNAvalidate         html  
    SpidermiRdownload_net                   html  
    SpidermiRprepare_NET                    html  
    SpidermiRquery_disease                  html  
    SpidermiRquery_networks_type            html  
    SpidermiRquery_spec_networks            html  
    SpidermiRquery_species                  html  
** building package indices
** installing vignettes
** testing if installed package can be loaded from temporary location
** testing if installed package can be loaded from final location
** testing if installed package keeps a record of temporary installation path

install for x64

* installing *source* package 'SpidermiR' ...
** testing if installed package can be loaded
* MD5 sums
packaged installation of 'SpidermiR' as SpidermiR_1.22.1.zip
* DONE (SpidermiR)