Index of /checkResults/release/bioc-LATEST/SpidermiR/raw-results/tokay2

[ICO]NameLast modifiedSizeDescription

[DIR]Parent Directory  -  
[TXT]buildbin-out.txt27-Jan-2022 03:07 2.0K 
[   ]buildbin-summary.dcf27-Jan-2022 03:07 551  
[TXT]buildsrc-out.txt27-Jan-2022 03:07 781  
[   ]buildsrc-summary.dcf27-Jan-2022 03:07 465  
[TXT]checksrc-out.txt27-Jan-2022 03:07 4.2K 
[   ]checksrc-summary.dcf27-Jan-2022 03:07 470  
[TXT]install-out.txt27-Jan-2022 03:07 2.7K 
[   ]install-summary.dcf27-Jan-2022 03:07 658