Name | Last modified | Size | Description | |
---|---|---|---|---|
Parent Directory | - | |||
buildsrc-out.txt | 26-Jun-2024 06:40 | 742 | ||
buildsrc-summary.dcf | 26-Jun-2024 06:40 | 422 | ||
checksrc-out.txt | 26-Jun-2024 06:40 | 3.7K | ||
checksrc-summary.dcf | 26-Jun-2024 06:40 | 426 | ||
install-out.txt | 26-Jun-2024 06:40 | 1.2K | ||
install-summary.dcf | 26-Jun-2024 06:40 | 263 | ||