Index of /checkResults/release/bioc-LATEST/SpidermiR/raw-results/machv2

[ICO]NameLast modifiedSizeDescription

[DIR]Parent Directory  -  
[TXT]buildbin-out.txt22-Jan-2022 03:08 1.1K 
[   ]buildbin-summary.dcf22-Jan-2022 03:08 542  
[TXT]buildsrc-out.txt22-Jan-2022 03:08 752  
[   ]buildsrc-summary.dcf22-Jan-2022 03:08 432  
[TXT]checksrc-out.txt22-Jan-2022 03:08 3.2K 
[   ]checksrc-summary.dcf22-Jan-2022 03:08 452  
[TXT]install-out.txt22-Jan-2022 03:08 962  
[   ]install-summary.dcf22-Jan-2022 03:08 273