Name | Last modified | Size | Description | |
---|---|---|---|---|
Parent Directory | - | |||
install-summary.dcf | 24-Jul-2024 22:04 | 267 | ||
install-out.txt | 24-Jul-2024 22:04 | 972 | ||
checksrc-summary.dcf | 24-Jul-2024 22:04 | 430 | ||
checksrc-out.txt | 24-Jul-2024 22:04 | 4.2K | ||
buildsrc-summary.dcf | 24-Jul-2024 22:04 | 429 | ||
buildsrc-out.txt | 24-Jul-2024 22:04 | 885 | ||