Name | Last modified | Size | Description | |
---|---|---|---|---|
Parent Directory | - | |||
checksrc-out.txt | 27-Jul-2024 06:41 | 4.2K | ||
buildbin-out.txt | 27-Jul-2024 06:41 | 1.2K | ||
install-out.txt | 27-Jul-2024 06:41 | 1.0K | ||
buildsrc-out.txt | 27-Jul-2024 06:41 | 895 | ||
buildbin-summary.dcf | 27-Jul-2024 06:41 | 554 | ||
checksrc-summary.dcf | 27-Jul-2024 06:41 | 460 | ||
buildsrc-summary.dcf | 27-Jul-2024 06:41 | 440 | ||
install-summary.dcf | 27-Jul-2024 06:41 | 277 | ||