![]() | Name | Last modified | Size | Description |
---|---|---|---|---|
![]() | Parent Directory | - | ||
![]() | buildbin-out.txt | 23-Sep-2023 00:37 | 1.2K | |
![]() | buildbin-summary.dcf | 23-Sep-2023 00:37 | 554 | |
![]() | buildsrc-out.txt | 24-Sep-2023 00:37 | 895 | |
![]() | buildsrc-summary.dcf | 24-Sep-2023 00:37 | 440 | |
![]() | checksrc-out.txt | 24-Sep-2023 00:37 | 4.2K | |
![]() | checksrc-summary.dcf | 24-Sep-2023 00:37 | 460 | |
![]() | install-out.txt | 24-Sep-2023 00:37 | 1.0K | |
![]() | install-summary.dcf | 24-Sep-2023 00:37 | 277 | |