Name | Last modified | Size | Description | |
---|---|---|---|---|
Parent Directory | - | |||
buildsrc-out.txt | 10-May-2024 00:41 | 896 | ||
buildsrc-summary.dcf | 10-May-2024 00:41 | 441 | ||
checksrc-out.txt | 10-May-2024 00:41 | 4.3K | ||
checksrc-summary.dcf | 10-May-2024 00:41 | 467 | ||
install-out.txt | 10-May-2024 00:41 | 1.0K | ||
install-summary.dcf | 10-May-2024 00:41 | 278 | ||