Back to Multiple platform build/check report for BioC 3.14
ABCDEFGHIJKLMNOPQR[S]TUVWXYZ

This page was generated on 2022-01-17 13:07:04 -0500 (Mon, 17 Jan 2022).

HostnameOSArch (*)R versionInstalled pkgs
nebbiolo2Linux (Ubuntu 20.04.4 LTS)x86_644.1.2 (2021-11-01) -- "Bird Hippie" 4328
tokay2Windows Server 2012 R2 Standardx644.1.2 (2021-11-01) -- "Bird Hippie" 4077
machv2macOS 10.14.6 Mojavex86_644.1.2 (2021-11-01) -- "Bird Hippie" 4138
Click on any hostname to see more info about the system (e.g. compilers)      (*) as reported by 'uname -p', except on Windows and Mac OS X

BUILD BIN results for Spectra on tokay2


To the developers/maintainers of the Spectra package:
- Please allow up to 24 hours (and sometimes 48 hours) for your latest push to git@git.bioconductor.org:packages/Spectra.git to
reflect on this report. See How and When does the builder pull? When will my changes propagate? here for more information.
- Make sure to use the following settings in order to reproduce any error or warning you see on this page.

raw results

Package 1852/2083HostnameOS / ArchINSTALLBUILDCHECKBUILD BIN
Spectra 1.4.1  (landing page)
RforMassSpectrometry Package Maintainer
Snapshot Date: 2022-01-16 01:55:05 -0500 (Sun, 16 Jan 2022)
git_url: https://git.bioconductor.org/packages/Spectra
git_branch: RELEASE_3_14
git_last_commit: 3e0c64a
git_last_commit_date: 2021-11-08 05:27:56 -0500 (Mon, 08 Nov 2021)
nebbiolo2Linux (Ubuntu 20.04.4 LTS) / x86_64  OK    OK    OK  UNNEEDED, same version is already published
tokay2Windows Server 2012 R2 Standard / x64  OK    OK    OK    OK  UNNEEDED, same version is already published
machv2macOS 10.14.6 Mojave / x86_64  OK    OK    OK    OK  UNNEEDED, same version is already published

Summary

Package: Spectra
Version: 1.4.1
Command: rm -rf Spectra.buildbin-libdir && mkdir Spectra.buildbin-libdir && C:\Users\biocbuild\bbs-3.14-bioc\R\bin\R.exe CMD INSTALL --merge-multiarch --build --library=Spectra.buildbin-libdir Spectra_1.4.1.tar.gz
StartedAt: 2022-01-17 08:16:04 -0500 (Mon, 17 Jan 2022)
EndedAt: 2022-01-17 08:18:01 -0500 (Mon, 17 Jan 2022)
EllapsedTime: 117.8 seconds
RetCode: 0
Status:   OK  
PackageFile: Spectra_1.4.1.zip
PackageFileSize: 1.057 MiB

Command output

##############################################################################
##############################################################################
###
### Running command:
###
###   rm -rf Spectra.buildbin-libdir && mkdir Spectra.buildbin-libdir && C:\Users\biocbuild\bbs-3.14-bioc\R\bin\R.exe CMD INSTALL --merge-multiarch --build --library=Spectra.buildbin-libdir Spectra_1.4.1.tar.gz
###
##############################################################################
##############################################################################



install for i386

* installing *source* package 'Spectra' ...
** using staged installation
** R
** inst
** byte-compile and prepare package for lazy loading
** help
*** installing help indices
  converting help for package 'Spectra'
    finding HTML links ... done
    MsBackend                               html  
    finding level-2 HTML links ... done

    Spectra                                 html  
    combinePeaks                            html  
    hidden_aliases                          html  
    joinPeaks                               html  
    plotMzDelta                             html  
    spectra-plotting                        html  
** building package indices
** installing vignettes
** testing if installed package can be loaded from temporary location
** testing if installed package can be loaded from final location
** testing if installed package keeps a record of temporary installation path

install for x64

* installing *source* package 'Spectra' ...
** testing if installed package can be loaded
* MD5 sums
packaged installation of 'Spectra' as Spectra_1.4.1.zip
* DONE (Spectra)