Index of /checkResults/release/bioc-LATEST/SingleR/raw-results/riesling1

[ICO]NameLast modifiedSizeDescription

[DIR]Parent Directory  -  
[TXT]buildbin-out.txt05-Jan-2022 01:06 46K 
[   ]buildbin-summary.dcf05-Jan-2022 01:06 511  
[TXT]buildsrc-out.txt19-Mar-2022 00:08 3.9K 
[   ]buildsrc-summary.dcf19-Mar-2022 00:08 367  
[TXT]checksrc-out.txt05-Jan-2022 01:06 4.0K 
[   ]checksrc-summary.dcf05-Jan-2022 01:06 445  
[TXT]install-out.txt19-Mar-2022 00:08 46K 
[   ]install-summary.dcf19-Mar-2022 00:08 267