Index of /checkResults/release/bioc-LATEST/SingleR/raw-results/nebbiolo2

[ICO]NameLast modifiedSizeDescription

[DIR]Parent Directory  -  
[TXT]buildsrc-out.txt30-Mar-2024 00:36 835  
[   ]buildsrc-summary.dcf30-Mar-2024 00:36 414  
[TXT]checksrc-out.txt30-Mar-2024 00:36 4.6K 
[   ]checksrc-summary.dcf30-Mar-2024 00:36 418  
[TXT]install-out.txt30-Mar-2024 00:36 72K 
[   ]install-summary.dcf30-Mar-2024 00:36 258