Index of /checkResults/release/bioc-LATEST/SingleR/raw-results/nebbiolo1

[ICO]NameLast modifiedSizeDescription

[DIR]Parent Directory  -  
[TXT]buildsrc-out.txt28-Jun-2022 00:10 836  
[   ]buildsrc-summary.dcf28-Jun-2022 00:10 418  
[TXT]checksrc-out.txt28-Jun-2022 00:10 3.4K 
[   ]checksrc-summary.dcf28-Jun-2022 00:10 424  
[TXT]install-out.txt28-Jun-2022 00:10 46K 
[   ]install-summary.dcf28-Jun-2022 00:10 259