Name | Last modified | Size | Description | |
---|---|---|---|---|
Parent Directory | - | |||
buildbin-out.txt | 05-Mar-2024 01:39 | 12K | ||
buildbin-summary.dcf | 05-Mar-2024 01:39 | 528 | ||
buildsrc-out.txt | 05-Mar-2024 01:39 | 845 | ||
buildsrc-summary.dcf | 05-Mar-2024 01:39 | 426 | ||
checksrc-out.txt | 05-Mar-2024 01:39 | 4.5K | ||
checksrc-summary.dcf | 05-Mar-2024 01:39 | 448 | ||
install-out.txt | 05-Mar-2024 01:39 | 9.9K | ||
install-summary.dcf | 05-Mar-2024 01:39 | 269 | ||