Index of /checkResults/release/bioc-LATEST/SingleR/raw-results/merida1

[ICO]NameLast modifiedSizeDescription

[DIR]Parent Directory  -  
[TXT]buildbin-out.txt23-Jun-2022 01:08 30K 
[   ]buildbin-summary.dcf23-Jun-2022 01:08 531  
[TXT]buildsrc-out.txt25-Jun-2022 01:08 846  
[   ]buildsrc-summary.dcf25-Jun-2022 01:08 428  
[TXT]checksrc-out.txt25-Jun-2022 01:08 3.4K 
[   ]checksrc-summary.dcf25-Jun-2022 01:08 444  
[TXT]install-out.txt25-Jun-2022 01:08 29K 
[   ]install-summary.dcf25-Jun-2022 01:08 269