Name | Last modified | Size | Description | |
---|---|---|---|---|
Parent Directory | - | |||
buildbin-summary.dcf | 12-Jun-2024 03:43 | 527 | ||
buildbin-out.txt | 12-Jun-2024 03:43 | 12K | ||
checksrc-summary.dcf | 12-Jun-2024 03:43 | 448 | ||
checksrc-out.txt | 12-Jun-2024 03:43 | 4.5K | ||
buildsrc-summary.dcf | 12-Jun-2024 03:43 | 426 | ||
buildsrc-out.txt | 12-Jun-2024 03:43 | 845 | ||
install-summary.dcf | 12-Jun-2024 03:43 | 268 | ||
install-out.txt | 12-Jun-2024 03:43 | 9.9K | ||