Index of /checkResults/release/bioc-LATEST/SingleR/raw-results/lconway

[ICO]NameLast modifiedSizeDescription

[DIR]Parent Directory  -  
[TXT]buildbin-out.txt05-Mar-2024 01:37 12K 
[   ]buildbin-summary.dcf05-Mar-2024 01:37 527  
[TXT]buildsrc-out.txt05-Mar-2024 01:37 845  
[   ]buildsrc-summary.dcf05-Mar-2024 01:37 426  
[TXT]checksrc-out.txt05-Mar-2024 01:37 4.5K 
[   ]checksrc-summary.dcf05-Mar-2024 01:37 448  
[TXT]install-out.txt05-Mar-2024 01:37 9.9K 
[   ]install-summary.dcf05-Mar-2024 01:37 268