Index of /checkResults/release/bioc-LATEST/SingleR/raw-results/kunpeng2

[ICO]NameLast modifiedSizeDescription

[DIR]Parent Directory  -  
[TXT]buildsrc-out.txt03-Nov-2023 00:41 652  
[   ]buildsrc-summary.dcf03-Nov-2023 00:41 333  
[TXT]checksrc-out.txt25-Oct-2023 00:41 4.5K 
[   ]checksrc-summary.dcf25-Oct-2023 00:41 406  
[TXT]install-out.txt03-Nov-2023 00:41 70K 
[   ]install-summary.dcf03-Nov-2023 00:41 253