Name | Last modified | Size | Description | |
---|---|---|---|---|
Parent Directory | - | |||
checksrc-out.txt | 24-Jul-2024 22:06 | 4.6K | ||
buildbin-out.txt | 24-Jul-2024 22:06 | 1.3K | ||
install-out.txt | 24-Jul-2024 22:06 | 1.0K | ||
buildsrc-out.txt | 24-Jul-2024 22:06 | 892 | ||
buildbin-summary.dcf | 24-Jul-2024 22:06 | 645 | ||
checksrc-summary.dcf | 24-Jul-2024 22:06 | 520 | ||
buildsrc-summary.dcf | 24-Jul-2024 22:06 | 485 | ||
install-summary.dcf | 24-Jul-2024 22:06 | 308 | ||