Index of /checkResults/release/bioc-LATEST/SingleMoleculeFootprinting/raw-results/merida1

[ICO]NameLast modifiedSizeDescription

[DIR]Parent Directory  -  
[TXT]buildbin-out.txt05-Mar-2024 01:39 1.3K 
[   ]buildbin-summary.dcf05-Mar-2024 01:39 645  
[TXT]buildsrc-out.txt05-Mar-2024 01:39 892  
[   ]buildsrc-summary.dcf05-Mar-2024 01:39 485  
[TXT]checksrc-out.txt05-Mar-2024 01:39 4.6K 
[   ]checksrc-summary.dcf05-Mar-2024 01:39 520  
[TXT]install-out.txt05-Mar-2024 01:39 1.0K 
[   ]install-summary.dcf05-Mar-2024 01:39 308