Index of /checkResults/release/bioc-LATEST/SingleMoleculeFootprinting/raw-results/lconway

[ICO]NameLast modifiedSizeDescription

[DIR]Parent Directory  -  
[TXT]buildbin-out.txt29-May-2024 00:35 1.3K 
[   ]buildbin-summary.dcf29-May-2024 00:35 644  
[TXT]buildsrc-out.txt29-May-2024 00:35 892  
[   ]buildsrc-summary.dcf29-May-2024 00:35 484  
[TXT]checksrc-out.txt29-May-2024 00:35 4.6K 
[   ]checksrc-summary.dcf29-May-2024 00:35 520  
[TXT]install-out.txt29-May-2024 00:35 1.0K 
[   ]install-summary.dcf29-May-2024 00:35 307