Index of /checkResults/release/bioc-LATEST/SingleCellAlleleExperiment/raw-results/palomino7
Name
Last modified
Size
Description
Parent Directory
-
buildsrc-out.txt
17-Jul-2024 06:40
1.3K
buildsrc-summary.dcf
17-Jul-2024 06:40
424
install-out.txt
17-Jul-2024 06:40
1.0K
install-summary.dcf
17-Jul-2024 06:40
305