Name | Last modified | Size | Description | |
---|---|---|---|---|
Parent Directory | - | |||
buildbin-summary.dcf | 17-Jul-2024 06:41 | 641 | ||
buildbin-out.txt | 17-Jul-2024 06:41 | 1.3K | ||
checksrc-summary.dcf | 17-Jul-2024 06:41 | 519 | ||
checksrc-out.txt | 17-Jul-2024 06:41 | 3.5K | ||
buildsrc-summary.dcf | 17-Jul-2024 06:41 | 484 | ||
buildsrc-out.txt | 17-Jul-2024 06:41 | 891 | ||
install-out.txt | 17-Jul-2024 06:41 | 1.0K | ||
install-summary.dcf | 17-Jul-2024 06:41 | 306 | ||