Name | Last modified | Size | Description | |
---|---|---|---|---|
Parent Directory | - | |||
buildbin-summary.dcf | 12-Jun-2024 03:43 | 641 | ||
buildbin-out.txt | 12-Jun-2024 03:43 | 1.3K | ||
checksrc-out.txt | 12-Jun-2024 03:43 | 3.5K | ||
checksrc-summary.dcf | 12-Jun-2024 03:43 | 518 | ||
buildsrc-summary.dcf | 12-Jun-2024 03:43 | 483 | ||
buildsrc-out.txt | 12-Jun-2024 03:43 | 891 | ||
install-summary.dcf | 12-Jun-2024 03:43 | 306 | ||
install-out.txt | 12-Jun-2024 03:43 | 1.0K | ||