Name | Last modified | Size | Description | |
---|---|---|---|---|
Parent Directory | - | |||
install-summary.dcf | 12-Jun-2024 03:43 | 279 | ||
install-out.txt | 12-Jun-2024 03:43 | 8.0K | ||
checksrc-summary.dcf | 12-Jun-2024 03:43 | 469 | ||
checksrc-out.txt | 12-Jun-2024 03:43 | 5.2K | ||
buildsrc-summary.dcf | 12-Jun-2024 03:43 | 442 | ||
buildsrc-out.txt | 12-Jun-2024 03:43 | 866 | ||
buildbin-summary.dcf | 12-Jun-2024 03:43 | 560 | ||
buildbin-out.txt | 12-Jun-2024 03:43 | 10K | ||