Back to Multiple platform build/check report for BioC 3.18: simplified long |
|
This page was generated on 2024-03-29 11:37:19 -0400 (Fri, 29 Mar 2024).
Hostname | OS | Arch (*) | R version | Installed pkgs |
---|---|---|---|---|
nebbiolo2 | Linux (Ubuntu 22.04.3 LTS) | x86_64 | 4.3.3 (2024-02-29) -- "Angel Food Cake" | 4669 |
palomino4 | Windows Server 2022 Datacenter | x64 | 4.3.3 (2024-02-29 ucrt) -- "Angel Food Cake" | 4404 |
merida1 | macOS 12.7.1 Monterey | x86_64 | 4.3.3 (2024-02-29) -- "Angel Food Cake" | 4427 |
Click on any hostname to see more info about the system (e.g. compilers) (*) as reported by 'uname -p', except on Windows and Mac OS X |
Package 1933/2266 | Hostname | OS / Arch | INSTALL | BUILD | CHECK | BUILD BIN | ||||||||
SeqVarTools 1.40.0 (landing page) Stephanie M. Gogarten
| nebbiolo2 | Linux (Ubuntu 22.04.3 LTS) / x86_64 | OK | OK | ERROR | |||||||||
palomino4 | Windows Server 2022 Datacenter / x64 | OK | OK | ERROR | OK | |||||||||
merida1 | macOS 12.7.1 Monterey / x86_64 | OK | OK | ERROR | OK | |||||||||
kjohnson1 | macOS 13.6.1 Ventura / arm64 | see weekly results here | ||||||||||||
To the developers/maintainers of the SeqVarTools package: - Allow up to 24 hours (and sometimes 48 hours) for your latest push to git@git.bioconductor.org:packages/SeqVarTools.git to reflect on this report. See Troubleshooting Build Report for more information. - Use the following Renviron settings to reproduce errors and warnings. - If 'R CMD check' started to fail recently on the Linux builder(s) over a missing dependency, add the missing dependency to 'Suggests:' in your DESCRIPTION file. See Renviron.bioc for more information. |
Package: SeqVarTools |
Version: 1.40.0 |
Command: F:\biocbuild\bbs-3.18-bioc\R\bin\R.exe CMD check --no-multiarch --install=check:SeqVarTools.install-out.txt --library=F:\biocbuild\bbs-3.18-bioc\R\library --no-vignettes --timings SeqVarTools_1.40.0.tar.gz |
StartedAt: 2024-03-28 05:07:08 -0400 (Thu, 28 Mar 2024) |
EndedAt: 2024-03-28 05:11:33 -0400 (Thu, 28 Mar 2024) |
EllapsedTime: 265.5 seconds |
RetCode: 1 |
Status: ERROR |
CheckDir: SeqVarTools.Rcheck |
Warnings: NA |
############################################################################## ############################################################################## ### ### Running command: ### ### F:\biocbuild\bbs-3.18-bioc\R\bin\R.exe CMD check --no-multiarch --install=check:SeqVarTools.install-out.txt --library=F:\biocbuild\bbs-3.18-bioc\R\library --no-vignettes --timings SeqVarTools_1.40.0.tar.gz ### ############################################################################## ############################################################################## * using log directory 'F:/biocbuild/bbs-3.18-bioc/meat/SeqVarTools.Rcheck' * using R version 4.3.3 (2024-02-29 ucrt) * using platform: x86_64-w64-mingw32 (64-bit) * R was compiled by gcc.exe (GCC) 12.3.0 GNU Fortran (GCC) 12.3.0 * running under: Windows Server 2022 x64 (build 20348) * using session charset: UTF-8 * using option '--no-vignettes' * checking for file 'SeqVarTools/DESCRIPTION' ... OK * checking extension type ... Package * this is package 'SeqVarTools' version '1.40.0' * checking package namespace information ... OK * checking package dependencies ... OK * checking if this is a source package ... OK * checking if there is a namespace ... OK * checking for hidden files and directories ... OK * checking for portable file names ... OK * checking whether package 'SeqVarTools' can be installed ... OK * checking installed package size ... OK * checking package directory ... OK * checking 'build' directory ... OK * checking DESCRIPTION meta-information ... OK * checking top-level files ... OK * checking for left-over files ... OK * checking index information ... OK * checking package subdirectories ... OK * checking R files for non-ASCII characters ... OK * checking R files for syntax errors ... OK * checking whether the package can be loaded ... OK * checking whether the package can be loaded with stated dependencies ... OK * checking whether the package can be unloaded cleanly ... OK * checking whether the namespace can be loaded with stated dependencies ... OK * checking whether the namespace can be unloaded cleanly ... OK * checking dependencies in R code ... OK * checking S3 generic/method consistency ... OK * checking replacement functions ... OK * checking foreign function calls ... OK * checking R code for possible problems ... OK * checking Rd files ... OK * checking Rd metadata ... OK * checking Rd cross-references ... OK * checking for missing documentation entries ... OK * checking for code/documentation mismatches ... OK * checking Rd \usage sections ... OK * checking Rd contents ... OK * checking for unstated dependencies in examples ... OK * checking contents of 'data' directory ... OK * checking data for non-ASCII characters ... OK * checking LazyData ... OK * checking data for ASCII and uncompressed saves ... OK * checking sizes of PDF files under 'inst/doc' ... OK * checking files in 'vignettes' ... OK * checking examples ... OK * checking for unstated dependencies in 'tests' ... OK * checking tests ... Running 'test.R' ERROR Running the tests in 'tests/test.R' failed. Last 13 lines of output: Test files with failing tests test_hethom.R test_hethom_sum test_missingGenotypeRate.R test_missingGenotypeRate test_parallel.R test_parallel_bysample Error in BiocGenerics:::testPackage("SeqVarTools") : unit tests failed for package SeqVarTools Execution halted * checking for unstated dependencies in vignettes ... OK * checking package vignettes in 'inst/doc' ... OK * checking running R code from vignettes ... SKIPPED * checking re-building of vignette outputs ... SKIPPED * checking PDF version of manual ... OK * DONE Status: 1 ERROR See 'F:/biocbuild/bbs-3.18-bioc/meat/SeqVarTools.Rcheck/00check.log' for details.
SeqVarTools.Rcheck/00install.out
############################################################################## ############################################################################## ### ### Running command: ### ### F:\biocbuild\bbs-3.18-bioc\R\bin\R.exe CMD INSTALL SeqVarTools ### ############################################################################## ############################################################################## * installing to library 'F:/biocbuild/bbs-3.18-bioc/R/library' * installing *source* package 'SeqVarTools' ... ** using staged installation ** R ** data *** moving datasets to lazyload DB ** inst ** byte-compile and prepare package for lazy loading ** help *** installing help indices ** building package indices ** installing vignettes ** testing if installed package can be loaded from temporary location ** testing if installed package can be loaded from final location ** testing if installed package keeps a record of temporary installation path * DONE (SeqVarTools)
SeqVarTools.Rcheck/tests/test.Rout.fail
R version 4.3.3 (2024-02-29 ucrt) -- "Angel Food Cake" Copyright (C) 2024 The R Foundation for Statistical Computing Platform: x86_64-w64-mingw32/x64 (64-bit) R is free software and comes with ABSOLUTELY NO WARRANTY. You are welcome to redistribute it under certain conditions. Type 'license()' or 'licence()' for distribution details. R is a collaborative project with many contributors. Type 'contributors()' for more information and 'citation()' on how to cite R or R packages in publications. Type 'demo()' for some demos, 'help()' for on-line help, or 'help.start()' for an HTML browser interface to help. Type 'q()' to quit R. > library(GenomicRanges) Loading required package: stats4 Loading required package: BiocGenerics Attaching package: 'BiocGenerics' The following objects are masked from 'package:stats': IQR, mad, sd, var, xtabs The following objects are masked from 'package:base': Filter, Find, Map, Position, Reduce, anyDuplicated, aperm, append, as.data.frame, basename, cbind, colnames, dirname, do.call, duplicated, eval, evalq, get, grep, grepl, intersect, is.unsorted, lapply, mapply, match, mget, order, paste, pmax, pmax.int, pmin, pmin.int, rank, rbind, rownames, sapply, setdiff, sort, table, tapply, union, unique, unsplit, which.max, which.min Loading required package: S4Vectors Attaching package: 'S4Vectors' The following object is masked from 'package:utils': findMatches The following objects are masked from 'package:base': I, expand.grid, unname Loading required package: IRanges Attaching package: 'IRanges' The following object is masked from 'package:grDevices': windows Loading required package: GenomeInfoDb > BiocGenerics:::testPackage("SeqVarTools") Loading required package: Biobase Welcome to Bioconductor Vignettes contain introductory material; view with 'browseVignettes()'. To cite Bioconductor, see 'citation("Biobase")', and for packages 'citation("pkgname")'. # of selected samples: 5 # of selected variants: 5 # of selected samples: 5 # of selected variants: 10 # of selected samples: 90 # of selected variants: 1,348 # of selected samples: 90 # of selected variants: 1,348 # of selected samples: 3 # of selected samples: 3 matching samples... 2 pairs identified! matching variants... 1346 non-overlapping variant matches identified! # of selected samples: 2 # of selected variants: 1,346 # of selected samples: 90 # of selected variants: 1,348 # of selected samples: 90 # of selected variants: 1,348 # of selected samples: 2 # of selected variants: 50 # of selected samples: 2 # of selected variants: 51 matching samples... 2 pairs identified! matching variants... 26 non-overlapping variant matches identified! # of selected variants: 26 # of selected samples: 90 # of selected variants: 1,348 # of selected samples: 5 # of selected variants: 10 # of selected samples: 5 # of selected variants: 10 File: F:\biocbuild\bbs-3.18-bioc\R\library\SeqArray\extdata\CEU_Exon.gds (287.6K) + [ ] * |--+ description [ ] * |--+ sample.id { Str8 90 LZMA_ra(34.7%), 257B } * |--+ variant.id { Int32 1348 LZMA_ra(16.7%), 905B } * |--+ position { Int32 1348 LZMA_ra(64.4%), 3.4K } * |--+ chromosome { Str8 1348 LZMA_ra(4.39%), 157B } * |--+ allele { Str8 1348 LZMA_ra(16.6%), 901B } * |--+ genotype [ ] * | |--+ data { Bit2 2x90x1348 LZMA_ra(26.3%), 15.6K } * | |--+ ~data { Bit2 2x1348x90 LZMA_ra(29.2%), 17.3K } * | |--+ extra.index { Int32 3x0 LZMA_ra, 18B } * | \--+ extra { Int16 0 LZMA_ra, 18B } |--+ phase [ ] | |--+ data { Bit1 90x1348 LZMA_ra(0.86%), 137B } * | |--+ ~data { Bit1 1348x90 LZMA_ra(0.86%), 137B } * | |--+ extra.index { Int32 3x0 LZMA_ra, 18B } * | \--+ extra { Bit1 0 LZMA_ra, 18B } |--+ annotation [ ] | |--+ id { Str8 1348 LZMA_ra(38.3%), 5.5K } * | |--+ qual { Float32 1348 LZMA_ra(2.11%), 121B } * | |--+ filter { Int32,factor 1348 LZMA_ra(2.11%), 121B } * | |--+ info [ ] | | |--+ AA { Str8 1328 LZMA_ra(22.1%), 593B } * | | |--+ AC { Int32 1348 LZMA_ra(24.1%), 1.3K } * | | |--+ AN { Int32 1348 LZMA_ra(19.6%), 1.0K } * | | |--+ DP { Int32 1348 LZMA_ra(47.7%), 2.5K } * | | |--+ HM2 { Bit1 1348 LZMA_ra(145.6%), 253B } * | | |--+ HM3 { Bit1 1348 LZMA_ra(145.6%), 253B } * | | |--+ OR { Str8 1348 LZMA_ra(19.6%), 341B } * | | |--+ GP { Str8 1348 LZMA_ra(24.3%), 3.8K } * | | \--+ BN { Int32 1348 LZMA_ra(20.7%), 1.1K } * | \--+ format [ ] | \--+ DP [ ] * | |--+ data { VL_Int 90x1348 LZMA_ra(70.8%), 115.2K } * | \--+ ~data { VL_Int 1348x90 LZMA_ra(65.1%), 105.9K } * \--+ sample.annotation [ ] \--+ family { Str8 90 LZMA_ra(55.0%), 221B } * # of selected variants: 142 # of selected samples: 90 # of selected variants: 1,348 # of selected variants: 5 # of selected samples: 90 # of selected variants: 1,348 # of selected samples: 5 # of selected variants: 5 # of selected samples: 90 # of selected variants: 1,348 # of selected samples: 90 # of selected variants: 1,348 # of selected samples: 3 # of selected samples: 3 matching samples... 2 pairs identified! matching variants... 1346 variant matches identified! matching samples... 2 pairs identified! matching variants... 1346 variant matches identified! # of selected samples: 90 # of selected variants: 1,348 # of selected samples: 90 # of selected variants: 1,348 # of selected samples: 2 # of selected variants: 50 # of selected samples: 2 # of selected variants: 51 matching samples... 2 pairs identified! matching variants... 26 variant matches identified! matching samples... 2 pairs identified! matching variants... 26 variant matches identified! # of selected variants: 26 # of selected samples: 90 # of selected variants: 1,348 # of selected samples: 90 # of selected variants: 1,348 # of selected samples: 3 # of selected samples: 3 matching samples... 2 pairs identified! matching variants... 1346 variant matches identified! matching samples... 2 pairs identified! matching variants... 1346 variant matches identified! matching samples... 2 pairs identified! matching variants... 1346 variant matches identified! matching samples... 2 pairs identified! matching variants... 1346 variant matches identified! # of selected samples: 90 # of selected variants: 1,348 # of selected samples: 90 # of selected variants: 1,348 # of selected samples: 2 # of selected variants: 50 # of selected samples: 2 # of selected variants: 51 matching samples... 2 pairs identified! matching variants... 26 variant matches identified! matching samples... 2 pairs identified! matching variants... 26 variant matches identified! # of selected variants: 26 Warning in SeqVarTools:::.samplePairs1(samples) : More than two samples for subject 4 Selecting first two samples: samp7, samp8 # of selected samples: 5 # of selected variants: 10 # of selected samples: 5 # of selected variants: 10 # of selected samples: 5 # of selected variants: 10 # of selected samples: 5 # of selected variants: 10 # of selected samples: 5 # of selected variants: 10 # of selected samples: 90 # of selected variants: 1,348 # of selected samples: 5 # of selected variants: 10 # of selected samples: 5 # of selected variants: 10 Timing stopped at: 0.14 0.02 0.16 Error in checkEquals(rep(nvar, nsamp), heterozygosity(gds, margin = "by.sample") * : Numeric: lengths (90, 0) differ # of selected samples: 5 # of selected variants: 10 # of selected samples: 90 # of selected variants: 1,348 # of selected samples: 5 # of selected variants: 10 # of selected samples: 5 # of selected variants: 10 # of selected variants: 1,346 # of selected variants: 1,330 # of selected samples: 5 # of selected variants: 10 # of selected samples: 90 # of selected variants: 1,348 # of selected samples: 5 # of selected variants: 10 # of selected samples: 5 # of selected variants: 10 # of selected samples: 5 # of selected variants: 10 # of selected samples: 90 # of selected variants: 1,348 # of selected samples: 5 # of selected variants: 10 # of selected samples: 3 # of selected variants: 10 # of selected samples: 3 # of selected samples: 90 # of selected variants: 1,348 # of selected variants: 10 # of selected samples: 3 Timing stopped at: 0.02 0 0.02 Error in checkIdentical(rowSums(is.na(geno[1, , ]))/dim(geno)[3], missingGenotypeRate(gds, : FALSE # of selected samples: 5 # of selected variants: 10 # of selected samples: 90 # of selected variants: 1,348 # of selected samples: 5 # of selected variants: 10 # of selected samples: 5 # of selected variants: 10 starting worker pid=84268 on localhost:11724 at 05:10:10.786 starting worker pid=22692 on localhost:11724 at 05:10:10.822 starting worker pid=28084 on localhost:11724 at 05:10:10.827 starting worker pid=94888 on localhost:11724 at 05:10:10.835 starting worker pid=27220 on localhost:11724 at 05:10:10.844 starting worker pid=21940 on localhost:11724 at 05:10:10.919 starting worker pid=133544 on localhost:11724 at 05:10:11.006 starting worker pid=54140 on localhost:11724 at 05:10:11.007 starting worker pid=115956 on localhost:11724 at 05:10:11.012 starting worker pid=128380 on localhost:11724 at 05:10:11.012 starting worker pid=119480 on localhost:11724 at 05:10:11.023 starting worker pid=131040 on localhost:11724 at 05:10:11.107 starting worker pid=1600 on localhost:11724 at 05:10:11.110 starting worker pid=115528 on localhost:11724 at 05:10:11.146 starting worker pid=13112 on localhost:11724 at 05:10:11.148 starting worker pid=24556 on localhost:11724 at 05:10:11.163 starting worker pid=121380 on localhost:11724 at 05:10:11.184 starting worker pid=123344 on localhost:11724 at 05:10:11.191 starting worker pid=19768 on localhost:11724 at 05:10:11.192 starting worker pid=141696 on localhost:11724 at 05:10:11.196 starting worker pid=136688 on localhost:11724 at 05:10:11.208 starting worker pid=65864 on localhost:11724 at 05:10:11.233 starting worker pid=33736 on localhost:11724 at 05:10:11.246 starting worker pid=25968 on localhost:11724 at 05:10:11.256 starting worker pid=72892 on localhost:11724 at 05:10:11.288 starting worker pid=138348 on localhost:11724 at 05:10:11.306 starting worker pid=75056 on localhost:11724 at 05:10:11.310 starting worker pid=15376 on localhost:11724 at 05:10:11.331 starting worker pid=58488 on localhost:11724 at 05:10:11.388 starting worker pid=24892 on localhost:11724 at 05:10:11.434 starting worker pid=24668 on localhost:11724 at 05:10:11.442 Timing stopped at: 0.16 0.18 9.88 Error in checkEquals(miss1, miss2) : Numeric: lengths (0, 90) differ starting worker pid=140844 on localhost:11724 at 05:10:20.724 starting worker pid=32448 on localhost:11724 at 05:10:20.742 starting worker pid=13468 on localhost:11724 at 05:10:20.748 starting worker pid=130936 on localhost:11724 at 05:10:20.760 starting worker pid=31580 on localhost:11724 at 05:10:20.772 starting worker pid=85548 on localhost:11724 at 05:10:20.775 starting worker pid=132008 on localhost:11724 at 05:10:20.788 starting worker pid=52444 on localhost:11724 at 05:10:20.815 starting worker pid=114404 on localhost:11724 at 05:10:20.852 starting worker pid=27360 on localhost:11724 at 05:10:20.866 starting worker pid=103644 on localhost:11724 at 05:10:20.881 starting worker pid=120860 on localhost:11724 at 05:10:20.909 starting worker pid=129976 on localhost:11724 at 05:10:20.925 starting worker pid=19440 on localhost:11724 at 05:10:20.934 starting worker pid=10876 on localhost:11724 at 05:10:20.978 starting worker pid=135636 on localhost:11724 at 05:10:21.002 starting worker pid=25996 on localhost:11724 at 05:10:21.009 starting worker pid=19960 on localhost:11724 at 05:10:21.020 starting worker pid=22324 on localhost:11724 at 05:10:21.035 starting worker pid=23808 on localhost:11724 at 05:10:21.038 starting worker pid=125104 on localhost:11724 at 05:10:21.042 starting worker pid=63700 on localhost:11724 at 05:10:21.044 starting worker pid=101492 on localhost:11724 at 05:10:21.052 starting worker pid=140500 on localhost:11724 at 05:10:21.092 starting worker pid=70564 on localhost:11724 at 05:10:21.146 starting worker pid=124800 on localhost:11724 at 05:10:21.163 starting worker pid=28296 on localhost:11724 at 05:10:21.239 starting worker pid=6984 on localhost:11724 at 05:10:21.241 starting worker pid=80820 on localhost:11724 at 05:10:21.263 starting worker pid=132316 on localhost:11724 at 05:10:21.275 starting worker pid=140604 on localhost:11724 at 05:10:21.293 starting worker pid=20144 on localhost:11724 at 05:10:37.098 starting worker pid=21540 on localhost:11724 at 05:10:37.104 starting worker pid=76912 on localhost:11724 at 05:10:37.105 starting worker pid=109924 on localhost:11724 at 05:10:37.105 starting worker pid=33832 on localhost:11724 at 05:10:37.121 starting worker pid=59124 on localhost:11724 at 05:10:37.172 starting worker pid=27548 on localhost:11724 at 05:10:37.181 starting worker pid=123520 on localhost:11724 at 05:10:37.181 starting worker pid=9556 on localhost:11724 at 05:10:37.182 starting worker pid=35376 on localhost:11724 at 05:10:37.218 starting worker pid=119284 on localhost:11724 at 05:10:37.221 starting worker pid=132440 on localhost:11724 at 05:10:37.264 starting worker pid=16788 on localhost:11724 at 05:10:37.268 starting worker pid=31976 on localhost:11724 at 05:10:37.281 starting worker pid=26904 on localhost:11724 at 05:10:37.282 starting worker pid=84448 on localhost:11724 at 05:10:37.301 starting worker pid=17956 on localhost:11724 at 05:10:37.355 starting worker pid=105224 on localhost:11724 at 05:10:37.384 starting worker pid=123600 on localhost:11724 at 05:10:37.428 starting worker pid=97700 on localhost:11724 at 05:10:37.431 starting worker pid=135016 on localhost:11724 at 05:10:37.468 starting worker pid=105448 on localhost:11724 at 05:10:37.484 starting worker pid=132328 on localhost:11724 at 05:10:37.486 starting worker pid=34844 on localhost:11724 at 05:10:37.533 starting worker pid=32664 on localhost:11724 at 05:10:37.556 starting worker pid=31936 on localhost:11724 at 05:10:37.569 starting worker pid=114756 on localhost:11724 at 05:10:37.570 starting worker pid=35248 on localhost:11724 at 05:10:37.577 starting worker pid=3916 on localhost:11724 at 05:10:37.586 starting worker pid=21836 on localhost:11724 at 05:10:37.619 starting worker pid=139412 on localhost:11724 at 05:10:37.636 starting worker pid=131844 on localhost:11724 at 05:10:46.896 starting worker pid=125288 on localhost:11724 at 05:10:46.947 starting worker pid=52136 on localhost:11724 at 05:10:47.044 starting worker pid=26748 on localhost:11724 at 05:10:47.046 starting worker pid=90168 on localhost:11724 at 05:10:47.071 starting worker pid=15352 on localhost:11724 at 05:10:47.080 starting worker pid=23348 on localhost:11724 at 05:10:47.112 starting worker pid=21968 on localhost:11724 at 05:10:47.120 starting worker pid=53912 on localhost:11724 at 05:10:47.121 starting worker pid=127668 on localhost:11724 at 05:10:47.159 starting worker pid=21220 on localhost:11724 at 05:10:47.160 starting worker pid=128260 on localhost:11724 at 05:10:47.164 starting worker pid=27020 on localhost:11724 at 05:10:47.172 starting worker pid=106412 on localhost:11724 at 05:10:47.216 starting worker pid=19832 on localhost:11724 at 05:10:47.216 starting worker pid=126188 on localhost:11724 at 05:10:47.217 starting worker pid=113584 on localhost:11724 at 05:10:47.240 starting worker pid=90260 on localhost:11724 at 05:10:47.249 starting worker pid=20508 on localhost:11724 at 05:10:47.261 starting worker pid=32816 on localhost:11724 at 05:10:47.263 starting worker pid=22472 on localhost:11724 at 05:10:47.276 starting worker pid=117380 on localhost:11724 at 05:10:47.309 starting worker pid=15400 on localhost:11724 at 05:10:47.320 starting worker pid=98796 on localhost:11724 at 05:10:47.321 starting worker pid=112896 on localhost:11724 at 05:10:47.344 starting worker pid=128212 on localhost:11724 at 05:10:47.351 starting worker pid=79792 on localhost:11724 at 05:10:47.415 starting worker pid=13948 on localhost:11724 at 05:10:47.430 starting worker pid=11476 on localhost:11724 at 05:10:47.459 starting worker pid=24120 on localhost:11724 at 05:10:47.480 starting worker pid=5996 on localhost:11724 at 05:10:47.485 starting worker pid=124084 on localhost:11724 at 05:11:03.902 starting worker pid=106676 on localhost:11724 at 05:11:03.934 starting worker pid=32320 on localhost:11724 at 05:11:03.938 starting worker pid=15860 on localhost:11724 at 05:11:03.953 starting worker pid=27720 on localhost:11724 at 05:11:03.965 starting worker pid=2608 on localhost:11724 at 05:11:03.978 starting worker pid=3344 on localhost:11724 at 05:11:04.016 starting worker pid=25596 on localhost:11724 at 05:11:04.027 starting worker pid=19752 on localhost:11724 at 05:11:04.031 starting worker pid=21016 on localhost:11724 at 05:11:04.035 starting worker pid=25188 on localhost:11724 at 05:11:04.039 starting worker pid=23596 on localhost:11724 at 05:11:04.045 starting worker pid=95800 on localhost:11724 at 05:11:04.050 starting worker pid=35104 on localhost:11724 at 05:11:04.079 starting worker pid=140964 on localhost:11724 at 05:11:04.102 starting worker pid=91300 on localhost:11724 at 05:11:04.111 starting worker pid=113848 on localhost:11724 at 05:11:04.111 starting worker pid=9648 on localhost:11724 at 05:11:04.214 starting worker pid=28336 on localhost:11724 at 05:11:04.227 starting worker pid=133996 on localhost:11724 at 05:11:04.245 starting worker pid=139416 on localhost:11724 at 05:11:04.255 starting worker pid=132940 on localhost:11724 at 05:11:04.260 starting worker pid=28316 on localhost:11724 at 05:11:04.263 starting worker pid=103996 on localhost:11724 at 05:11:04.266 starting worker pid=17444 on localhost:11724 at 05:11:04.314 starting worker pid=141192 on localhost:11724 at 05:11:04.315 starting worker pid=28300 on localhost:11724 at 05:11:04.321 starting worker pid=129940 on localhost:11724 at 05:11:04.327 starting worker pid=26672 on localhost:11724 at 05:11:04.385 starting worker pid=31280 on localhost:11724 at 05:11:04.397 starting worker pid=106864 on localhost:11724 at 05:11:04.408 # of selected samples: 5 # of selected variants: 10 # of selected samples: 90 # of selected variants: 1,348 # of selected samples: 5 # of selected variants: 10 # of selected variants: 903 # of selected samples: 59 # of selected samples: 58 # of selected samples: 32 # of selected samples: 5 # of selected variants: 10 # of selected samples: 90 # of selected variants: 1,348 # of selected samples: 5 # of selected variants: 10 # of selected samples: 5 # of selected variants: 10 # of selected samples: 90 # of selected variants: 1,348 # of selected samples: 5 # of selected variants: 10 # of selected samples: 10 # of selected samples: 10 # of selected variants: 10 # of selected samples: 10 RUNIT TEST PROTOCOL -- Thu Mar 28 05:11:23 2024 *********************************************** Number of test functions: 152 Number of errors: 0 Number of failures: 3 1 Test Suite : SeqVarTools RUnit Tests - 152 test functions, 0 errors, 3 failures FAILURE in test_hethom_sum: Error in checkEquals(rep(nvar, nsamp), heterozygosity(gds, margin = "by.sample") * : Numeric: lengths (90, 0) differ FAILURE in test_missingGenotypeRate: Error in checkIdentical(rowSums(is.na(geno[1, , ]))/dim(geno)[3], missingGenotypeRate(gds, : FALSE FAILURE in test_parallel_bysample: Error in checkEquals(miss1, miss2) : Numeric: lengths (0, 90) differ Test files with failing tests test_hethom.R test_hethom_sum test_missingGenotypeRate.R test_missingGenotypeRate test_parallel.R test_parallel_bysample Error in BiocGenerics:::testPackage("SeqVarTools") : unit tests failed for package SeqVarTools Execution halted
SeqVarTools.Rcheck/SeqVarTools-Ex.timings
name | user | system | elapsed | |
Iterator-class | 0.84 | 0.01 | 0.86 | |
SeqVarData-class | 0.05 | 0.03 | 0.07 | |
allele-methods | 0.00 | 0.02 | 0.01 | |
alleleFrequency | 0.04 | 0.00 | 0.05 | |
alternateAlleleDetection | 0 | 0 | 0 | |
applyMethod | 0.25 | 0.06 | 0.31 | |
countSingletons | 0.03 | 0.00 | 0.03 | |
duplicateDiscordance | 0.19 | 0.00 | 0.19 | |
getGenotype | 0.03 | 0.00 | 0.03 | |
getVariableLengthData | 0.02 | 0.00 | 0.02 | |
heterozygosity | 0.79 | 0.01 | 0.81 | |
hwe | 0.08 | 0.00 | 0.08 | |
imputedDosage | 0.27 | 0.02 | 0.34 | |
inbreedCoeff | 0.14 | 0.05 | 0.19 | |
isSNV | 0 | 0 | 0 | |
isVariant | 0 | 0 | 0 | |
meanBySample | 0.02 | 0.00 | 0.03 | |
mendelErr | 0.03 | 0.00 | 0.04 | |
missingGenotypeRate | 0.02 | 0.00 | 0.01 | |
pca | 0.22 | 0.00 | 0.22 | |
pedigree | 0.00 | 0.01 | 0.02 | |
refFrac | 0.04 | 0.00 | 0.06 | |
regression | 0.07 | 0.00 | 0.06 | |
setVariantID | 0.00 | 0.02 | 0.03 | |
titv | 0.17 | 0.00 | 0.17 | |
variantInfo | 0.03 | 0.01 | 0.05 | |