Name | Last modified | Size | Description | |
---|---|---|---|---|
Parent Directory | - | |||
buildsrc-out.txt | 03-Nov-2023 00:41 | 714 | ||
buildsrc-summary.dcf | 03-Nov-2023 00:41 | 338 | ||
checksrc-out.txt | 25-Oct-2023 00:41 | 3.1K | ||
checksrc-summary.dcf | 25-Oct-2023 00:41 | 420 | ||
install-out.txt | 03-Nov-2023 00:41 | 947 | ||
install-summary.dcf | 03-Nov-2023 00:41 | 263 | ||